BEGIN:VCALENDAR
VERSION:2.0
PRODID:-//Grundschule Auf dem Berge - Einbeck / Wenzen - ECPv6.2.6//NONSGML v1.0//EN
CALSCALE:GREGORIAN
METHOD:PUBLISH
X-ORIGINAL-URL:https://www.gsaufdemberge.de
X-WR-CALDESC:Veranstaltungen für Grundschule Auf dem Berge - Einbeck / Wenzen
REFRESH-INTERVAL;VALUE=DURATION:PT1H
X-Robots-Tag:noindex
X-PUBLISHED-TTL:PT1H
BEGIN:VTIMEZONE
TZID:Europe/Berlin
BEGIN:DAYLIGHT
TZOFFSETFROM:+0100
TZOFFSETTO:+0200
TZNAME:CEST
DTSTART:20260329T010000
END:DAYLIGHT
BEGIN:STANDARD
TZOFFSETFROM:+0200
TZOFFSETTO:+0100
TZNAME:CET
DTSTART:20261025T010000
END:STANDARD
END:VTIMEZONE
BEGIN:VEVENT
DTSTART;TZID=Europe/Berlin:20260615T081000
DTEND;TZID=Europe/Berlin:20260615T131000
DTSTAMP:20260422T144511
CREATED:20260402T084444Z
LAST-MODIFIED:20260402T084444Z
UID:4664-1781511000-1781529000@www.gsaufdemberge.de
SUMMARY:Schulfotograf
DESCRIPTION:
URL:https://www.gsaufdemberge.de/event/schulfotograf-2/
END:VEVENT
BEGIN:VEVENT
DTSTART;TZID=Europe/Berlin:20260616T100500
DTEND;TZID=Europe/Berlin:20260616T105000
DTSTAMP:20260422T144511
CREATED:20260402T084707Z
LAST-MODIFIED:20260402T084707Z
UID:4668-1781604300-1781607000@www.gsaufdemberge.de
SUMMARY:Lesestunde
DESCRIPTION:
URL:https://www.gsaufdemberge.de/event/lesestunde-57/
END:VEVENT
BEGIN:VEVENT
DTSTART;TZID=Europe/Berlin:20260616T140000
DTEND;TZID=Europe/Berlin:20260616T163000
DTSTAMP:20260422T144511
CREATED:20260402T084608Z
LAST-MODIFIED:20260402T084608Z
UID:4666-1781618400-1781627400@www.gsaufdemberge.de
SUMMARY:Dienstbesprechung
DESCRIPTION:
URL:https://www.gsaufdemberge.de/event/dienstbesprechung-55/
END:VEVENT
BEGIN:VEVENT
DTSTART;TZID=Europe/Berlin:20260623T140000
DTEND;TZID=Europe/Berlin:20260623T170000
DTSTAMP:20260422T144511
CREATED:20260402T084848Z
LAST-MODIFIED:20260402T084848Z
UID:4670-1782223200-1782234000@www.gsaufdemberge.de
SUMMARY:Zeugniskonferenz
DESCRIPTION:
URL:https://www.gsaufdemberge.de/event/zeugniskonferenz-11/
END:VEVENT
BEGIN:VEVENT
DTSTART;TZID=Europe/Berlin:20260629T100500
DTEND;TZID=Europe/Berlin:20260629T114000
DTSTAMP:20260422T144511
CREATED:20260402T084938Z
LAST-MODIFIED:20260402T084938Z
UID:4672-1782727500-1782733200@www.gsaufdemberge.de
SUMMARY:Verabschiedung Klasse 4
DESCRIPTION:
URL:https://www.gsaufdemberge.de/event/verabschiedung-klasse-4-3/
END:VEVENT
BEGIN:VEVENT
DTSTART;VALUE=DATE:20260630
DTEND;VALUE=DATE:20260701
DTSTAMP:20260422T144511
CREATED:20260402T084956Z
LAST-MODIFIED:20260402T084956Z
UID:4674-1782777600-1782863999@www.gsaufdemberge.de
SUMMARY:Wandertag
DESCRIPTION:
URL:https://www.gsaufdemberge.de/event/wandertag-4/
END:VEVENT
BEGIN:VEVENT
DTSTART;TZID=Europe/Berlin:20260701T081000
DTEND;TZID=Europe/Berlin:20260701T105000
DTSTAMP:20260422T144511
CREATED:20260402T085118Z
LAST-MODIFIED:20260402T085118Z
UID:4676-1782893400-1782903000@www.gsaufdemberge.de
SUMMARY:Zeugnisausgabe
DESCRIPTION:
URL:https://www.gsaufdemberge.de/event/zeugnisausgabe-8/
END:VEVENT
END:VCALENDAR